BEGIN:VCALENDAR
VERSION:2.0
PRODID:-//Conrerp - 6ª Região - ECPv6.10.1.1//NONSGML v1.0//EN
CALSCALE:GREGORIAN
METHOD:PUBLISH
X-WR-CALNAME:Conrerp - 6ª Região
X-ORIGINAL-URL:https://www.conrerp6.org.br
X-WR-CALDESC:Eventos para Conrerp - 6ª Região
REFRESH-INTERVAL;VALUE=DURATION:PT1H
X-Robots-Tag:noindex
X-PUBLISHED-TTL:PT1H
BEGIN:VTIMEZONE
TZID:America/Sao_Paulo
BEGIN:STANDARD
TZOFFSETFROM:-0200
TZOFFSETTO:-0300
TZNAME:-03
DTSTART:20190217T020000
END:STANDARD
END:VTIMEZONE
BEGIN:VEVENT
DTSTART;TZID=America/Sao_Paulo:20191206T140000
DTEND;TZID=America/Sao_Paulo:20191206T140000
DTSTAMP:20260425T190928
CREATED:20191130T161101Z
LAST-MODIFIED:20200201T014843Z
UID:3614-1575640800-1575640800@www.conrerp6.org.br
SUMMARY:Sessão Especial – Comemoração dos 60 anos da área de Relações Públicas no Senado Federal e Dia Nacional das Relações Públicas
DESCRIPTION:Confirmação: \nhttps://www12.senado.leg.br/institucional/eventos/detalheeventoeventos?evento_id=sessao-especial-destinada-a-comemorar-os-60-anos-da-trajetoria-da-area-de-relacoes-publicas-do-senado-federal-bem-como-o-dia-nacional-das-relacoes-publicas-1
URL:https://www.conrerp6.org.br/evento/sessao-especial-comemoracao-dos-60-anos-da-area-de-relacoes-publicas-no-senado-federal-e-dia-nacional-das-relacoes-publicas/
LOCATION:Plenário do Senado Federal\, Brasília
CATEGORIES:Eventos
ATTACH;FMTTYPE=image/jpeg:https://www.conrerp6.org.br/wp-content/uploads/2019/11/image001-1.jpg
END:VEVENT
BEGIN:VEVENT
DTSTART;VALUE=DATE:20191202
DTEND;VALUE=DATE:20191205
DTSTAMP:20260425T190928
CREATED:20191130T161644Z
LAST-MODIFIED:20200201T014858Z
UID:3621-1575244800-1575503999@www.conrerp6.org.br
SUMMARY:28° Congresso Brasileiro das Empresas e Profissionais de Eventos
DESCRIPTION:Evento que reúne profissionais e empresas de diversos segmentos ligados ao setor de eventos para troca de conhecimentos e networking. O tema deste ano é: Impacto dos Eventos no Desenvolvimento Econômico do Brasil. \nMais informações: https://abeoc.org.br/2019/11/eventos-brasil-2019-levara-ao-ceara-tres-dias-de-imersao-no-universo-de-eventos-e-sua-cadeia-produtiva/ \nPromoção e realização: ABEOC Brasil e ABEOC-CE
URL:https://www.conrerp6.org.br/evento/28-congresso-brasileiro-das-empresas-e-profissionais-de-eventos/
LOCATION:Centro de Eventos do Ceará\, Fortaleza\, Ceará\, Brasil
CATEGORIES:Eventos
ATTACH;FMTTYPE=image/jpeg:https://www.conrerp6.org.br/wp-content/uploads/2019/11/image002.jpg
END:VEVENT
BEGIN:VEVENT
DTSTART;VALUE=DATE:20191202
DTEND;VALUE=DATE:20191204
DTSTAMP:20260425T190928
CREATED:20191125T021506Z
LAST-MODIFIED:20191125T024241Z
UID:3604-1575244800-1575417599@www.conrerp6.org.br
SUMMARY:22° Encontro de Profissionais de Relações Públicas
DESCRIPTION:Nos dias 2 e 3 de dezembro ocorrerá o 22° Encontro de Profissionais de Relações Públicas na Universidade Federal do Amazonas. O evento é promovido pelos acadêmicos da disciplina Gestão de Eventos do curso de Relações Públicas sob a coordenação da professora Inara Costa. O objetivo é colocar em prática o conhecimento adquirido sobre organização de evento desde a fase do planejamento até a avaliação final\, bem como celebrar o Dia Nacional dos Relações Públicas comemorado no dia 2. \nA edição deste ano abordará o tema “#Dia-a-Dia RP: práticas e estratégias” com o propósito de aproximar cada vez mais a academia do mercado de trabalho\, por meio de palestras e painéis sobre o cotidiano do profissional de comunicação. Alguns palestrantes vêm de outras cidades especialmente para o evento\, tais como\, Antônio Lago presidente do Conselho Regional de Relações Públicas – Conrerp 6ª região (Brasília-DF) e Jaqueline Teixeira profissional de comunicação da Petrobras (Salvador-BA). \nAlém de palestras\, haverá painel\, mesa-redonda\, lançamento de campanha e revistas acadêmicas\, posse de delegados do Conrerp no Amazonas e sorteio de brindes. “A edição deste ano tem uma programação variada para celebrarmos a nota máxima obtida pelo curso de RP na avaliação do MEC” ressalta Inara Costa. \nO público terá a oportunidade de interagir com profissionais de comunicação renomados com grande atuação no mercado local: Tainara França (TV A Crítica); Andrew Ramos (Bemol); Rômulo Araújo (Secretaria Municipal de Comunicação); Larissa Albuquerque (Millennium Shopping); Rejane Barros (Fundação Paulo Feitoza e INDT) e a empresária Luana Coelho (The White Publicidade). \nO Encontro terá início às 8 horas no Auditório Alalaú\, localizado na Faculdade de Educação\, setor Norte do campus universitário da UFAM. As inscrições são limitadas e gratuitas e podem ser feitas no endereço: HTTPS://doity.com.br/diaadiarp-praticas-e-estrategias \nO evento tem apoio da Pró-reitoria de Extensão da UFAM\, Secretaria Municipal de Meio Ambiente\, Conselho Federal dos Profissionais de Relações Públicas\, Conrerp 6ª região\, Grupo Alemã\, Dikamisetas\, Chácara São João e Morada Buffet. \nServiço:  \nO quê: 22° Encontro de Profissionais de Relações Públicas\nQuando: 2 e 3 de dezembro\nOnde: Auditório Alalaú na FACED – Campus UFAM – Av. Gal. Rodrigo Otávio\, Coroado.\nQuanto: Inscrições gratuitas HTTPS://doity.com.br/diaadiarp-praticas-e-estrategias
URL:https://www.conrerp6.org.br/evento/22-encontro-de-profissionais-de-relacoes-publicas/
LOCATION:UFAM\, Auditório Alalaú na FACED – Campus UFAM – Av. Gal. Rodrigo Otávio\, Coroado\, Manaus\, Amazonas\, Brasil
CATEGORIES:Eventos
ATTACH;FMTTYPE=image/png:https://www.conrerp6.org.br/wp-content/uploads/2019/11/image001-1.png
END:VEVENT
BEGIN:VEVENT
DTSTART;VALUE=DATE:20191130
DTEND;VALUE=DATE:20191201
DTSTAMP:20260425T190928
CREATED:20191103T171518Z
LAST-MODIFIED:20191125T022902Z
UID:3553-1575072000-1575158399@www.conrerp6.org.br
SUMMARY:Expofesta – Congresso On-line de Festas e Eventos
DESCRIPTION:Novembro 2019 (consultar disponilibilidade) \nA ExpoFesta é um congresso nacional de festas e eventos para pequenos\, médios e grandes empreendedores que produzem\, organizam e oferecem serviços e produtos para eventos em todo o país. Um Mega Evento ONLINE e GRATUITO da área de festas e eventos\, que tem o objetivo principal de proporcionar e compartilhar o conhecimento com profissionais da área\, para que cada vez mais\, consigam ir em busca do ápice de qualidade em seus serviços\, multiplicando seus faturamentos e conquistando um melhor posicionamento neste mercado de festas. \nMais informações em: https://www.expofesta.com.br/
URL:https://www.conrerp6.org.br/evento/expofesta-congresso-on-line-de-festas-e-eventos/
CATEGORIES:Eventos
ATTACH;FMTTYPE=image/png:https://www.conrerp6.org.br/wp-content/uploads/2019/11/image006.png
END:VEVENT
BEGIN:VEVENT
DTSTART;VALUE=DATE:20191127
DTEND;VALUE=DATE:20191130
DTSTAMP:20260425T190928
CREATED:20191103T165449Z
LAST-MODIFIED:20191103T175114Z
UID:3533-1574812800-1575071999@www.conrerp6.org.br
SUMMARY:Ibercom 2019 – 16º Congresso da Associação Iberoamericana de Comunicação (Assibercom)
DESCRIPTION:De 27 a 29 de novembro de 2019 – O Departamento de Comunicação e a Escola de Comunicação e Linguagem Pontificia Universidad Javeriana (Bogotá\, Colômbia)\, vão sediar o evento\, cujo objetivo é reafirmar o espaço ibero-americano de reflexão e debate dos estudos em Comunicação. “Comunicação\, Violências e Transições” será o tema central do Ibercom\, buscando uma reflexão sobre o papel da comunicação nas transições democráticas\, mas também a análise que ela desempenha nas transições mais variadas (sócio-ecológicas\, geográficas\, biológicas\, de gênero\, conceituais\, entre outras) de que vive o mundo contemporâneo. \nResumos podem ser submetidos até 1º de junho de 2019. Saiba mais em https://ibercom2019.assibercom.org/
URL:https://www.conrerp6.org.br/evento/ibercom-2019-16o-congresso-da-associacao-iberoamericana-de-comunicacao-assibercom/
LOCATION:Assibercom\, Bogotá\, Colômbia
CATEGORIES:Eventos
ATTACH;FMTTYPE=image/png:https://www.conrerp6.org.br/wp-content/uploads/2019/11/image001.png
END:VEVENT
BEGIN:VEVENT
DTSTART;VALUE=DATE:20191120
DTEND;VALUE=DATE:20191122
DTSTAMP:20260425T190928
CREATED:20191103T170249Z
LAST-MODIFIED:20191103T175126Z
UID:3536-1574208000-1574380799@www.conrerp6.org.br
SUMMARY:Curso O Cerimonial do Dia-a-Dia
DESCRIPTION:Com Gilda Fleury Meirelles (Diretora do IBRADEP\, da Academia Brasileira de Cerimonial e Protocolo e do CNCP/Brasil – Comitê Nacional de Cerimonial e Protocolo/Brasil) e Eliane Ubillús (Vice-presidente da OICP – Organización Internacional de Ceremonial y Protocolo\, Diretora do CNCP/Brasil e da Academia Brasileira de Cerimonial e Protocolo). \nMais informações em: http://www.ibradep.com.br/cursos.php
URL:https://www.conrerp6.org.br/evento/curso-o-cerimonial-do-dia-a-dia/
LOCATION:ParlaMundi\, Brasília\, Brasil
CATEGORIES:Eventos
ATTACH;FMTTYPE=image/png:https://www.conrerp6.org.br/wp-content/uploads/2019/11/image002.png
END:VEVENT
BEGIN:VEVENT
DTSTART;VALUE=DATE:20191105
DTEND;VALUE=DATE:20191107
DTSTAMP:20260425T190928
CREATED:20191103T171005Z
LAST-MODIFIED:20191103T175139Z
UID:3545-1572912000-1573084799@www.conrerp6.org.br
SUMMARY:Workshop - Comunicação assertiva no trabalho
DESCRIPTION:Repensar a maneira de se comunicar com os colegas de trabalho\, encontrar maneiras possíveis de utilizar ferramentas de diálogo no dia a dia e desenvolver uma comunicação com menos ruídos. Baseado em princípios da neuro aprendizagem e da comunicação não-violenta.\nMais informações em: https://www.sympla.com.br/workshop–comunicacao-assertiva-no-trabalho__667640
URL:https://www.conrerp6.org.br/evento/workshop-comunicacao-assertiva-no-trabalho/
LOCATION:Manifesto Coworking\, Brasília\, Brasil
CATEGORIES:Eventos
ATTACH;FMTTYPE=image/jpeg:https://www.conrerp6.org.br/wp-content/uploads/2019/11/image004.jpg
END:VEVENT
BEGIN:VEVENT
DTSTART;VALUE=DATE:20191101
DTEND;VALUE=DATE:20191102
DTSTAMP:20260425T190928
CREATED:20191103T171321Z
LAST-MODIFIED:20191103T175156Z
UID:3549-1572566400-1572652799@www.conrerp6.org.br
SUMMARY:Planejamento em Relações Institucionais e Governamentais
DESCRIPTION:Objetivo: Compreender como as estratégias empresariais e as Relações Institucionais e Governamentais (RIG) são importantes para a geração de resultados e valor para as empresas. Conhecer e praticar técnicas para a aplicação em Gestão e Estratégia Empresarial e Relações Institucionais e Governamentais. Introduzir os participantes na discussão de conceitos considerados ainda de fronteira da ciência no campo de estratégia empresarial e RIG. \nMais informações: http://cursosaberje.com.br/cursos/planejamento-em-relacoes-institucionais-e-governamentais.html#.Xaxk-ehKjIU
URL:https://www.conrerp6.org.br/evento/planejamento-em-relacoes-institucionais-e-governamentais/
LOCATION:Escola Aberje\, São Paulo\, Brasil
CATEGORIES:Eventos
ATTACH;FMTTYPE=image/jpeg:https://www.conrerp6.org.br/wp-content/uploads/2019/11/image005.jpg
END:VEVENT
BEGIN:VEVENT
DTSTART;VALUE=DATE:20191026
DTEND;VALUE=DATE:20191027
DTSTAMP:20260425T190928
CREATED:20191103T171803Z
LAST-MODIFIED:20191103T175205Z
UID:3556-1572048000-1572134399@www.conrerp6.org.br
SUMMARY:Comunicação Afetiva: despertando o amor e a cultura da não-violência no universo corporativo
DESCRIPTION:Objetivos: Capacitar profissionais para os novos desafios da comunicação em rede e para a necessidade de estabelecimento de diálogo eficaz com stakeholders; Fornecer meios para consolidação de culturas organizacionais pautadas pela empatia e senso de propósito; Inspirar organizações a adotarem linguagem afetivas e posturas não-violentas com seus públicos de relacionamento; Promover reflexões acerca do papel das organizações na formação de uma sociedade mais pacífica e compassiva. \nMais informações: http://portal.abrapcorp.org.br/comunicacao-afetiva-como-estabelecer-conexoes-com-stakeholders-e-agregar-valor-a-imagem-institucional/
URL:https://www.conrerp6.org.br/evento/comunicacao-afetiva-despertando-o-amor-e-a-cultura-da-nao-violencia-no-universo-corporativo/
LOCATION:Abrapcorp\, São Paulo\, Brasil
CATEGORIES:Eventos
ATTACH;FMTTYPE=image/png:https://www.conrerp6.org.br/wp-content/uploads/2019/11/image007.png
END:VEVENT
END:VCALENDAR